Workbook

Sheet Sheet1
A1: 附件5
A2: 2023年广州市荔湾区食品安全监督抽检信息表
A3: 序号 | B3: 抽查领域 | C3: 抽样单位 | D3: 受检单位所在县（区） | E3: 食品大类 | F3: 食品亚类 | G3: 食品次亚类 | H3: 食品细类 | I3: 报告书编号 | J3: 抽样单号 | K3: 产品名称 | L3: 规格型号 | M3: 商标 | N3: 生产日期 | O3: 抽样日期 | P3: 受检单位 | Q3: 受检单位地址 | R3: 生产单位 | S3: 生产单位地址 | T3: 检验结果 | U3: 不合格项目 | V3: 标准要求 | W3: 实测值 | X3: 项目单位
A4: 1 | B4: 流通 | C4: 广州检验检测认证集团有限公司 | D4: 荔湾区 | E4: 食用农产品 | F4: 蔬菜 | G4: 叶菜类蔬菜 | H4: 油麦菜 | I4: 食安2023-06-8103 | J4: XBJ23440103606410684 | K4: 油麦菜 | L4: 散装称重 | M4: / | N4: 45097 | O4: 45097 | P4: 东漖肉菜综合市场梁德刚 | Q4: 广州市荔湾区东漖南路46号东漖肉菜综合市场k2档 | R4: / | S4: / | T4: 合格 | U4: / | V4: / | W4: / | X4: /
A5: 2 | B5: 流通 | C5: 广州检验检测认证集团有限公司 | D5: 荔湾区 | E5: 食用农产品 | F5: 蔬菜 | G5: 豆芽 | H5: 豆芽 | I5: 食安2023-06-8467 | J5: XBJ23440103606410697 | K5: 黄豆芽 | L5: 散装称重 | M5: / | N5: 45103 | O5: 45103 | P5: 流花新街市邱绍铭 | Q5: 广州市荔湾区陈岗路32号073、074号档 | R5: / | S5: / | T5: 合格 | U5: / | V5: / | W5: / | X5: /
A6: 3 | B6: 流通 | C6: 广州检验检测认证集团有限公司 | D6: 荔湾区 | E6: 食用农产品 | F6: 蔬菜 | G6: 豆芽 | H6: 豆芽 | I6: 食安2023-06-8463 | J6: XBJ23440103606410693 | K6: 黄豆芽 | L6: 散装称重 | M6: / | N6: 45103 | O6: 45103 | P6: 广州市荔湾区佘有宝豆制品店 | Q6: 广州市荔湾区长寿东路长寿中北街7号首层第45商铺 | R6: / | S6: / | T6: 合格 | U6: / | V6: / | W6: / | X6: /
A7: 4 | B7: 流通 | C7: 广州检验检测认证集团有限公司 | D7: 荔湾区 | E7: 食用农产品 | F7: 蔬菜 | G7: 豆芽 | H7: 豆芽 | I7: 食安2023-06-8470 | J7: XBJ23440103606410700 | K7: 黄豆芽 | L7: 散装称重 | M7: / | N7: 45103 | O7: 45103 | P7: 流花新街市张建新 | Q7: 广州市荔湾区陈岗路32号首层065、066号档(连档) | R7: / | S7: / | T7: 合格 | U7: / | V7: / | W7: / | X7: /
A8: 5 | B8: 流通 | C8: 广州检验检测认证集团有限公司 | D8: 荔湾区 | E8: 食用农产品 | F8: 蔬菜 | G8: 豆芽 | H8: 豆芽 | I8: 食安2023-06-8469 | J8: XBJ23440103606410699 | K8: 绿豆芽 | L8: 散装称重 | M8: / | N8: 45103 | O8: 45103 | P8: 流花新街市谭运泉 | Q8: 广州市荔湾区陈岗路32号第032、033档 | R8: / | S8: / | T8: 合格 | U8: / | V8: / | W8: / | X8: /
A9: 6 | B9: 流通 | C9: 广州检验检测认证集团有限公司 | D9: 荔湾区 | E9: 食用农产品 | F9: 蔬菜 | G9: 豆芽 | H9: 豆芽 | I9: 食安2023-06-8464 | J9: XBJ23440103606410694 | K9: 绿豆芽 | L9: 散装称重 | M9: / | N9: 45103 | O9: 45103 | P9: 广州市荔湾区佘有宝豆制品店 | Q9: 广州市荔湾区长寿东路长寿中北街7号首层第45商铺 | R9: / | S9: / | T9: 合格 | U9: / | V9: / | W9: / | X9: /
A10: 7 | B10: 流通 | C10: 广州检验检测认证集团有限公司 | D10: 荔湾区 | E10: 食用农产品 | F10: 蔬菜 | G10: 豆芽 | H10: 豆芽 | I10: 食安2023-06-8605 | J10: XBJ23440103606410702 | K10: 黄豆芽 | L10: 散装称重 | M10: / | N10: 45104 | O10: 45104 | P10: 南源新街市谌佳 | Q10: 广州市荔湾区南岸路源溪石路边1号之二、之三首层35号档口 | R10: / | S10: / | T10: 合格 | U10: / | V10: / | W10: / | X10: /
A11: 8 | B11: 流通 | C11: 广州检验检测认证集团有限公司 | D11: 荔湾区 | E11: 食用农产品 | F11: 蔬菜 | G11: 豆芽 | H11: 豆芽 | I11: 食安2023-06-8606 | J11: XBJ23440103606410703 | K11: 绿豆芽 | L11: 散装称重 | M11: / | N11: 45104 | O11: 45104 | P11: 南源新街市谌佳 | Q11: 广州市荔湾区南岸路源溪石路边1号之二、之三首层35号档口 | R11: / | S11: / | T11: 合格 | U11: / | V11: / | W11: / | X11: /
A12: 9 | B12: 流通 | C12: 广州检验检测认证集团有限公司 | D12: 荔湾区 | E12: 食用农产品 | F12: 蔬菜 | G12: 豆芽 | H12: 豆芽 | I12: 食安2023-06-8781 | J12: XBJ23440103606410708 | K12: 绿豆芽 | L12: 散装称重 | M12: / | N12: 45105 | O12: 45105 | P12: 张勇 | Q12: 广州市荔湾区杉木栏路139号清平东肉菜市场31档 | R12: / | S12: / | T12: 合格 | U12: / | V12: / | W12: / | X12: /
A13: 10 | B13: 流通 | C13: 广州检验检测认证集团有限公司 | D13: 荔湾区 | E13: 食用农产品 | F13: 蔬菜 | G13: 豆芽 | H13: 豆芽 | I13: 食安2023-06-8468 | J13: XBJ23440103606410698 | K13: 绿豆芽 | L13: 散装称重 | M13: / | N13: 45103 | O13: 45103 | P13: 流花新街市邱绍铭 | Q13: 广州市荔湾区陈岗路32号073、074号档 | R13: / | S13: / | T13: 合格 | U13: / | V13: / | W13: / | X13: /
A14: 11 | B14: 流通 | C14: 广州检验检测认证集团有限公司 | D14: 荔湾区 | E14: 食用农产品 | F14: 蔬菜 | G14: 豆芽 | H14: 豆芽 | I14: 食安2023-07-0024 | J14: XBJ23440103606410709 | K14: 黄豆芽 | L14: 散装称重 | M14: / | N14: 45107 | O14: 45107 | P14: 广州市荔湾区鲜锋百货店 | Q14: 广州市荔湾区龙溪西路83-1 | R14: / | S14: / | T14: 合格 | U14: / | V14: / | W14: / | X14: /
A15: 12 | B15: 流通 | C15: 广州检验检测认证集团有限公司 | D15: 荔湾区 | E15: 食用农产品 | F15: 蔬菜 | G15: 豆芽 | H15: 豆芽 | I15: 食安2023-06-8465 | J15: XBJ23440103606410695 | K15: 黄豆芽 | L15: 散装称重 | M15: / | N15: 45103 | O15: 45103 | P15: 广州市荔湾区杨自路豆制品档 | Q15: 广州市荔湾区长寿东路长寿中北街7号首层中北食品综合商场04,08,09号档 | R15: / | S15: / | T15: 合格 | U15: / | V15: / | W15: / | X15: /
... A19: 16 | B19: 流通 | C19: 广州检验检测认证集团有限公司 | D19: 荔湾区 | E19: 食用农产品 | F19: 蔬菜 | G19: 豆芽 | H19: 豆芽 | I19: 食安2023-07-0023 | J19: XBJ23440103606410710 | K19: 绿豆芽 | L19: 散装 | M19: / | N19: 45107 | O19: 45107 | P19: 广州市荔湾区鲜锋百货店 | Q19: 广州市荔湾区龙溪西路83-1 | R19: / | S19: / | T19: 合格 | U19: / | V19: / | W19: / | X19: /

Sheet Sheet2
A1: 报告编号 | B1: 抽样单号 | C1: 任务批号
A2: 执法2022-01-0001 | B2: NCP22440103606400001 | C2: 22018C04001 | D2: =VLOOKUP(C2,Sheet3!A:B,2,0) -> 2022年广州市荔湾区食品执法抽样检验01-14
A3: 执法2022-01-0002 | B3: NCP22440103606400002 | C3: 22018C04001 | D3: =VLOOKUP(C3,Sheet3!A:B,2,0) -> 2022年广州市荔湾区食品执法抽样检验01-14
A4: 执法2022-01-0004 | B4: NCP22440103606400003 | C4: 22018C04002 | D4: =VLOOKUP(C4,Sheet3!A:B,2,0) -> 2022年广州市荔湾区食品执法抽样检验01-14
A5: 执法2022-01-0005 | B5: NCP22440103606400004 | C5: 22018C04002 | D5: =VLOOKUP(C5,Sheet3!A:B,2,0) -> 2022年广州市荔湾区食品执法抽样检验01-14
A6: 执法2022-01-0006 | B6: NCP22440103606400005 | C6: 22018C04002 | D6: =VLOOKUP(C6,Sheet3!A:B,2,0) -> 2022年广州市荔湾区食品执法抽样检验01-14
A7: 执法2022-01-0009 | B7: XC22440103606400001 | C7: 22018C04003 | D7: =VLOOKUP(C7,Sheet3!A:B,2,0) -> 2022年广州市荔湾区食品执法抽样检验01-23
A8: 执法2022-01-0012 | B8: XC22440103606400003 | C8: 22018C04003 | D8: =VLOOKUP(C8,Sheet3!A:B,2,0) -> 2022年广州市荔湾区食品执法抽样检验01-23
A9: 执法2022-01-0013 | B9: XC22440103606400002 | C9: 22018C04003 | D9: =VLOOKUP(C9,Sheet3!A:B,2,0) -> 2022年广州市荔湾区食品执法抽样检验01-23
A10: 执法2022-01-0014 | B10: XC22440103606400004 | C10: 22018C04003 | D10: =VLOOKUP(C10,Sheet3!A:B,2,0) -> 2022年广州市荔湾区食品执法抽样检验01-23
A11: 执法2022-01-0015 | B11: XC22440103606400005 | C11: 22018C04003 | D11: =VLOOKUP(C11,Sheet3!A:B,2,0) -> 2022年广州市荔湾区食品执法抽样检验01-23
A12: 执法2022-01-0016 | B12: XC22440103606400020 | C12: 22018C04004 | D12: =VLOOKUP(C12,Sheet3!A:B,2,0) -> 2022年广州市荔湾区食品执法抽样检验01-23
A13: 执法2022-01-0019 | B13: NCP22440103606400011 | C13: 22018C04005 | D13: =VLOOKUP(C13,Sheet3!A:B,2,0) -> 2022年广州市荔湾区食品执法抽样检验01-23
... A34: 食安2022-03-0590 | B34: XC22440103606420028 | C34: 22118C17001 | D34: =VLOOKUP(C34,Sheet3!A:B,2,0) -> 2022年一季度广州市荔湾区生产环节食品安全抽样检验
C35: 22118C17002 | D35: =VLOOKUP(C35,Sheet3!A:B,2,0) -> 2022年一季度广州市荔湾区生产环节食品安全抽样检验
A36: 食安2022-02-1281 | B36: XC22440103606420007 | C36: 22118C17003 | D36: =VLOOKUP(C36,Sheet3!A:B,2,0) -> 2022年一季度广州市荔湾区生产环节食品安全抽样检验
A37: 食安2022-03-0070 | B37: XC22440103606420003 | C37: 22118C17003 | D37: =VLOOKUP(C37,Sheet3!A:B,2,0) -> 2022年一季度广州市荔湾区生产环节食品安全抽样检验
A38: 食安2022-03-0071 | B38: XC22440103606420002 | C38: 22118C17003 | D38: =VLOOKUP(C38,Sheet3!A:B,2,0) -> 2022年一季度广州市荔湾区生产环节食品安全抽样检验
A39: 食安2022-03-0072 | B39: XC22440103606420008 | C39: 22118C17003 | D39: =VLOOKUP(C39,Sheet3!A:B,2,0) -> 2022年一季度广州市荔湾区生产环节食品安全抽样检验
A40: 食安2022-03-0497 | B40: XC22440103606420025 | C40: 22118C17003 | D40: =VLOOKUP(C40,Sheet3!A:B,2,0) -> 2022年一季度广州市荔湾区生产环节食品安全抽样检验
A41: 食安2022-03-0589 | B41: XC22440103606420027 | C41: 22118C17004 | D41: =VLOOKUP(C41,Sheet3!A:B,2,0) -> 2022年一季度广州市荔湾区生产环节食品安全抽样检验
C42: 22118C17005 | D42: =VLOOKUP(C42,Sheet3!A:B,2,0) -> 2022年一季度广州市荔湾区生产环节食品安全抽样检验
A43: 食安2022-03-0658 | B43: XC22440103606420053 | C43: 22118C17006 | D43: =VLOOKUP(C43,Sheet3!A:B,2,0) -> 2022年一季度广州市荔湾区生产环节食品安全抽样检验
A44: 食安2022-03-0659 | B44: XC22440103606420052 | C44: 22118C17006 | D44: =VLOOKUP(C44,Sheet3!A:B,2,0) -> 2022年一季度广州市荔湾区生产环节食品安全抽样检验
A45: 食安2022-03-0045 | B45: XC22440103606420001 | C45: 22118C17006 | D45: =VLOOKUP(C45,Sheet3!A:B,2,0) -> 2022年一季度广州市荔湾区生产环节食品安全抽样检验
A46: 食安2022-03-0609 | B46: XC22440103606420017 | C46: 22118C17007 | D46: =VLOOKUP(C46,Sheet3!A:B,2,0) -> 2022年一季度广州市荔湾区生产环节食品安全抽样检验
A47: 食安2022-03-0643 | B47: XC22440103606420042 | C47: 22118C17008 | D47: =VLOOKUP(C47,Sheet3!A:B,2,0) -> 2022年一季度广州市荔湾区生产环节食品安全抽样检验
C48: 22118C17009 | D48: =VLOOKUP(C48,Sheet3!A:B,2,0) -> 2022年一季度广州市荔湾区生产环节食品安全抽样检验
A49: 食安2022-03-0591 | B49: XC22440103606420036 | C49: 22118C17010 | D49: =VLOOKUP(C49,Sheet3!A:B,2,0) -> 2022年一季度广州市荔湾区生产环节食品安全抽样检验
A50: 食安2022-03-0984 | B50: XC22440103606420063 | C50: 22118C17010 | D50: =VLOOKUP(C50,Sheet3!A:B,2,0) -> 2022年一季度广州市荔湾区生产环节食品安全抽样检验
A51: 食安2022-03-0827 | B51: XC22440103606420060 | C51: 22118C17011 | D51: =VLOOKUP(C51,Sheet3!A:B,2,0) -> 2022年一季度广州市荔湾区生产环节食品安全抽样检验
A52: 食安2022-03-0720 | B52: XC22440103606420048 | C52: 22118C17012 | D52: =VLOOKUP(C52,Sheet3!A:B,2,0) -> 2022年一季度广州市荔湾区生产环节食品安全抽样检验
A53: 食安2022-03-0721 | B53: XC22440103606420047 | C53: 22118C17012 | D53: =VLOOKUP(C53,Sheet3!A:B,2,0) -> 2022年一季度广州市荔湾区生产环节食品安全抽样检验
A54: 食安2022-03-0828 | B54: XC22440103606420058 | C54: 22118C17013 | D54: =VLOOKUP(C54,Sheet3!A:B,2,0) -> 2022年一季度广州市荔湾区生产环节食品安全抽样检验
A55: 食安2022-03-0829 | B55: XC22440103606420059 | C55: 22118C17013 | D55: =VLOOKUP(C55,Sheet3!A:B,2,0) -> 2022年一季度广州市荔湾区生产环节食品安全抽样检验
A56: 食安2022-03-0588 | B56: XC22440103606420026 | C56: 22118C17014 | D56: =VLOOKUP(C56,Sheet3!A:B,2,0) -> 2022年一季度广州市荔湾区生产环节食品安全抽样检验
A57: 食安2022-03-0593 | B57: XC22440103606420037 | C57: 22118C17014 | D57: =VLOOKUP(C57,Sheet3!A:B,2,0) -> 2022年一季度广州市荔湾区生产环节食品安全抽样检验
A58: 食安2022-03-0043 | B58: XC22440103606420011 | C58: 22118C17014 | D58: =VLOOKUP(C58,Sheet3!A:B,2,0) -> 2022年一季度广州市荔湾区生产环节食品安全抽样检验
C59: 22118C17015 | D59: =VLOOKUP(C59,Sheet3!A:B,2,0) -> 2022年一季度广州市荔湾区生产环节食品安全抽样检验
A60: 食安2022-03-0493 | B60: XC22440103606420023 | C60: 22118C17016 | D60: =VLOOKUP(C60,Sheet3!A:B,2,0) -> 2022年一季度广州市荔湾区生产环节食品安全抽样检验
A61: 食安2022-03-0496 | B61: XC22440103606420021 | C61: 22118C17016 | D61: =VLOOKUP(C61,Sheet3!A:B,2,0) -> 2022年一季度广州市荔湾区生产环节食品安全抽样检验
A62: 食安2022-03-0656 | B62: XC22440103606420054 | C62: 22118C17016 | D62: =VLOOKUP(C62,Sheet3!A:B,2,0) -> 2022年一季度广州市荔湾区生产环节食品安全抽样检验
A63: 食安2022-03-0657 | B63: XC22440103606420055 | C63: 22118C17016 | D63: =VLOOKUP(C63,Sheet3!A:B,2,0) -> 2022年一季度广州市荔湾区生产环节食品安全抽样检验
A64: 食安2022-03-0645 | B64: XC22440103606420044 | C64: 22118C17017 | D64: =VLOOKUP(C64,Sheet3!A:B,2,0) -> 2022年一季度广州市荔湾区生产环节食品安全抽样检验
A65: 食安2022-03-0653 | B65: XC22440103606420029 | C65: 22118C17017 | D65: =VLOOKUP(C65,Sheet3!A:B,2,0) -> 2022年一季度广州市荔湾区生产环节食品安全抽样检验
A66: 食安2022-03-0644 | B66: XC22440103606420043 | C66: 22118C17017 | D66: =VLOOKUP(C66,Sheet3!A:B,2,0) -> 2022年一季度广州市荔湾区生产环节食品安全抽样检验
C67: 22118C17018 | D67: =VLOOKUP(C67,Sheet3!A:B,2,0) -> 2022年一季度广州市荔湾区生产环节食品安全抽样检验
A68: 食安2022-03-0654 | B68: XC22440103606420030 | C68: 22118C17019 | D68: =VLOOKUP(C68,Sheet3!A:B,2,0) -> 2022年一季度广州市荔湾区生产环节食品安全抽样检验
C69: 22118C17020 | D69: =VLOOKUP(C69,Sheet3!A:B,2,0) -> 2022年一季度广州市荔湾区生产环节食品安全抽样检验
C70: 22118C17021 | D70: =VLOOKUP(C70,Sheet3!A:B,2,0) -> 2022年一季度广州市荔湾区生产环节食品安全抽样检验
C71: 22118C17022 | D71: =VLOOKUP(C71,Sheet3!A:B,2,0) -> 2022年一季度广州市荔湾区生产环节食品安全抽样检验
A72: 食安2022-03-0494 | B72: XC22440103606420024 | C72: 22118C17023 | D72: =VLOOKUP(C72,Sheet3!A:B,2,0) -> 2022年一季度广州市荔湾区生产环节食品安全抽样检验
A73: 食安2022-03-0652 | B73: XC22440103606420056 | C73: 22118C17023 | D73: =VLOOKUP(C73,Sheet3!A:B,2,0) -> 2022年一季度广州市荔湾区生产环节食品安全抽样检验
C74: 22118C17024 | D74: =VLOOKUP(C74,Sheet3!A:B,2,0) -> 2022年一季度广州市荔湾区生产环节食品安全抽样检验
A75: 食安2022-03-0641 | B75: XC22440103606420057 | C75: 22118C17025 | D75: =VLOOKUP(C75,Sheet3!A:B,2,0) -> 2022年一季度广州市荔湾区生产环节食品安全抽样检验
C76: 22118C17026 | D76: =VLOOKUP(C76,Sheet3!A:B,2,0) -> 2022年一季度广州市荔湾区生产环节食品安全抽样检验
A77: 食安2022-03-0860 | B77: XC22440103606420064 | C77: 22118C17027 | D77: =VLOOKUP(C77,Sheet3!A:B,2,0) -> 2022年一季度广州市荔湾区生产环节食品安全抽样检验
A78: 食安2022-03-0044 | B78: XC22440103606420006 | C78: 22118C17028 | D78: =VLOOKUP(C78,Sheet3!A:B,2,0) -> 2022年一季度广州市荔湾区生产环节食品安全抽样检验
A79: 食安2022-03-0594 | B79: XC22440103606420035 | C79: 22118C17028 | D79: =VLOOKUP(C79,Sheet3!A:B,2,0) -> 2022年一季度广州市荔湾区生产环节食品安全抽样检验
A80: 食安2022-03-0861 | B80: XC22440103606420061 | C80: 22118C17028 | D80: =VLOOKUP(C80,Sheet3!A:B,2,0) -> 2022年一季度广州市荔湾区生产环节食品安全抽样检验
A81: 食安2022-03-0862 | B81: XC22440103606420062 | C81: 22118C17028 | D81: =VLOOKUP(C81,Sheet3!A:B,2,0) -> 2022年一季度广州市荔湾区生产环节食品安全抽样检验
A82: 食安2022-03-0549 | B82: XC22440103606420016 | C82: 22118C17029 | D82: =VLOOKUP(C82,Sheet3!A:B,2,0) -> 2022年一季度广州市荔湾区生产环节食品安全抽样检验
A83: 食安2022-03-0647 | B83: XC22440103606420046 | C83: 22118C17030 | D83: =VLOOKUP(C83,Sheet3!A:B,2,0) -> 2022年一季度广州市荔湾区生产环节食品安全抽样检验
A84: 食安2022-03-0646 | B84: XC22440103606420045 | C84: 22118C17030 | D84: =VLOOKUP(C84,Sheet3!A:B,2,0) -> 2022年一季度广州市荔湾区生产环节食品安全抽样检验
C85: 22118C17031 | D85: =VLOOKUP(C85,Sheet3!A:B,2,0) -> 2022年一季度广州市荔湾区生产环节食品安全抽样检验
A86: 食安2022-03-0642 | B86: XC22440103606420041 | C86: 22118C17032 | D86: =VLOOKUP(C86,Sheet3!A:B,2,0) -> 2022年一季度广州市荔湾区生产环节食品安全抽样检验
A87: 食安2022-03-0655 | B87: XC22440103606420051 | C87: 22118C17032 | D87: =VLOOKUP(C87,Sheet3!A:B,2,0) -> 2022年一季度广州市荔湾区生产环节食品安全抽样检验
A88: 食安2022-03-0495 | B88: XC22440103606420022 | C88: 22118C17032 | D88: =VLOOKUP(C88,Sheet3!A:B,2,0) -> 2022年一季度广州市荔湾区生产环节食品安全抽样检验
A89: 食安2022-03-0550 | B89: XC22440103606420018 | C89: 22118C17033 | D89: =VLOOKUP(C89,Sheet3!A:B,2,0) -> 2022年一季度广州市荔湾区生产环节食品安全抽样检验
A90: 食安2022-03-0719 | B90: XC22440103606420049 | C90: 22118C17033 | D90: =VLOOKUP(C90,Sheet3!A:B,2,0) -> 2022年一季度广州市荔湾区生产环节食品安全抽样检验
A91: 食安2022-03-0905 | B91: XC22440103606410021 | C91: 22118C17034 | D91: =VLOOKUP(C91,Sheet3!A:B,2,0) -> 2022年3月广州市荔湾区食品跟踪抽检
A92: 食安2022-03-0906 | B92: NCP22440103606410021 | C92: 22118C17035 | D92: =VLOOKUP(C92,Sheet3!A:B,2,0) -> 2022年3月广州市荔湾区食品跟踪抽检
A93: 食安2022-03-1981 | B93: XC22440103606410022 | C93: 22118C17036 | D93: =VLOOKUP(C93,Sheet3!A:B,2,0) -> 2022年广州市荔湾区食品跟踪抽检03-17
A94: 食安2022-03-1982 | B94: XC22440103606410023 | C94: 22118C17036 | D94: =VLOOKUP(C94,Sheet3!A:B,2,0) -> 2022年广州市荔湾区食品跟踪抽检03-17
C95: 22218C17001 | D95: =VLOOKUP(C95,Sheet3!A:B,2,0) -> 2022年二季度广州市荔湾区生产环节食品安全抽样检验
C96: 22218C17002 | D96: =VLOOKUP(C96,Sheet3!A:B,2,0) -> 2022年二季度广州市荔湾区生产环节食品安全抽样检验
A97: 食安2022-05-5492 | B97: XC22440103606420089 | C97: 22218C17003 | D97: =VLOOKUP(C97,Sheet3!A:B,2,0) -> 2022年二季度广州市荔湾区生产环节食品安全抽样检验
C98: 22218C17004 | D98: =VLOOKUP(C98,Sheet3!A:B,2,0) -> 2022年二季度广州市荔湾区生产环节食品安全抽样检验
A99: 食安2022-05-4210 | B99: XC22440103606420086 | C99: 22218C17005 | D99: =VLOOKUP(C99,Sheet3!A:B,2,0) -> 2022年二季度广州市荔湾区生产环节食品安全抽样检验
C100: 22218C17006 | D100: =VLOOKUP(C100,Sheet3!A:B,2,0) -> 2022年二季度广州市荔湾区生产环节食品安全抽样检验
A101: 食安2022-05-3812 | B101: XC22440103606420081 | C101: 22218C17007 | D101: =VLOOKUP(C101,Sheet3!A:B,2,0) -> 2022年二季度广州市荔湾区生产环节食品安全抽样检验
A102: 食安2022-05-4165 | B102: XC22440103606420084 | C102: 22218C17007 | D102: =VLOOKUP(C102,Sheet3!A:B,2,0) -> 2022年二季度广州市荔湾区生产环节食品安全抽样检验
C103: 22218C17008 | D103: =VLOOKUP(C103,Sheet3!A:B,2,0) -> 2022年二季度广州市荔湾区生产环节食品安全抽样检验
A104: 食安2022-05-4166 | B104: XC22440103606420085 | C104: 22218C17009 | D104: =VLOOKUP(C104,Sheet3!A:B,2,0) -> 2022年二季度广州市荔湾区生产环节食品安全抽样检验
A105: 食安2022-05-5432 | B105: XC22440103606420088 | C105: 22218C17009 | D105: =VLOOKUP(C105,Sheet3!A:B,2,0) -> 2022年二季度广州市荔湾区生产环节食品安全抽样检验
A106: 食安2022-05-5495 | B106: XC22440103606420091 | C106: 22218C17009 | D106: =VLOOKUP(C106,Sheet3!A:B,2,0) -> 2022年二季度广州市荔湾区生产环节食品安全抽样检验
C107: 22218C17010 | D107: =VLOOKUP(C107,Sheet3!A:B,2,0) -> 2022年二季度广州市荔湾区生产环节食品安全抽样检验
A108: 食安2022-05-5879 | B108: XC22440103606420111 | C108: 22218C17011 | D108: =VLOOKUP(C108,Sheet3!A:B,2,0) -> 2022年二季度广州市荔湾区生产环节食品安全抽样检验
A109: 食安2022-05-5880 | B109: XC22440103606420112 | C109: 22218C17012 | D109: =VLOOKUP(C109,Sheet3!A:B,2,0) -> 2022年二季度广州市荔湾区生产环节食品安全抽样检验
C110: 22218C17013 | D110: =VLOOKUP(C110,Sheet3!A:B,2,0) -> 2022年二季度广州市荔湾区生产环节食品安全抽样检验
A111: 食安2022-05-3811 | B111: XC22440103606420083 | C111: 22218C17014 | D111: =VLOOKUP(C111,Sheet3!A:B,2,0) -> 2022年二季度广州市荔湾区生产环节食品安全抽样检验
A112: 食安2022-05-3813 | B112: XC22440103606420082 | C112: 22218C17014 | D112: =VLOOKUP(C112,Sheet3!A:B,2,0) -> 2022年二季度广州市荔湾区生产环节食品安全抽样检验
A113: 食安2022-05-4722 | B113: XC22440103606420087 | C113: 22218C17014 | D113: =VLOOKUP(C113,Sheet3!A:B,2,0) -> 2022年二季度广州市荔湾区生产环节食品安全抽样检验
C114: 22218C17015 | D114: =VLOOKUP(C114,Sheet3!A:B,2,0) -> 2022年二季度广州市荔湾区生产环节食品安全抽样检验
C115: 22218C17016 | D115: =VLOOKUP(C115,Sheet3!A:B,2,0) -> 2022年二季度广州市荔湾区生产环节食品安全抽样检验
C116: 22218C17017 | D116: =VLOOKUP(C116,Sheet3!A:B,2,0) -> 2022年二季度广州市荔湾区生产环节食品安全抽样检验
A117: 食安2022-05-5575 | B117: XC22440103606420090 | C117: 22218C17018 | D117: =VLOOKUP(C117,Sheet3!A:B,2,0) -> 2022年二季度广州市荔湾区生产环节食品安全抽样检验
C118: 22218C17019 | D118: =VLOOKUP(C118,Sheet3!A:B,2,0) -> 2022年二季度广州市荔湾区生产环节食品安全抽样检验
A119: 食安2022-01-0405 | B119: XC22440103606410002 | C119: 22A18C17001 | D119: =VLOOKUP(C119,Sheet3!A:B,2,0) -> 2022年1月广州市荔湾区天嘉农贸市场食品安全专项抽样检验
A120: 食安2022-01-0406 | B120: XC22440103606410001 | C120: 22A18C17001 | D120: =VLOOKUP(C120,Sheet3!A:B,2,0) -> 2022年1月广州市荔湾区天嘉农贸市场食品安全专项抽样检验
...

Sheet Sheet3
A1: 22118B08001 | B1: 2022年广州市荔湾区牛肉委托抽样检验03-14
A2: 22118B08002 | B2: 2022年广州市荔湾区速冻水产制品委托抽样检验03-31
A3: 22018C04001 | B3: 2022年广州市荔湾区食品执法抽样检验01-14
A4: 22018C04002 | B4: 2022年广州市荔湾区食品执法抽样检验01-14
A5: 22018C04003 | B5: 2022年广州市荔湾区食品执法抽样检验01-23
A6: 22018C04004 | B6: 2022年广州市荔湾区食品执法抽样检验01-23
A7: 22018C04005 | B7: 2022年广州市荔湾区食品执法抽样检验01-23
A8: 22018C04006 | B8: 2022年广州市荔湾区食品执法抽样检验01-23
A9: 22018C04007 | B9: 2022年广州市荔湾区食品执法抽样检验03-09
A10: 22018C04008 | B10: 2022年广州市荔湾区食品执法抽样检验03-15
A11: 22018C04009 | B11: 2022年广州市荔湾区食品执法抽样检验03-15
A12: 22018C04010 | B12: 2022年广州市荔湾区食品执法抽样检验03-15
... A126: 22218C17019 | B126: 2022年二季度广州市荔湾区生产环节食品安全抽样检验

Sheet Sheet4

Sheet Sheet5
A1: 样品状态 | B1: 报送分类-2* | C1: 抽样地点_2* | F1: 食品大类 | G1: 食品亚类 | H1: 食品次亚类 | I1: 食品细类 | J1: 报告书编号* | K1: 抽样编号* | M1: 样品名称* | N1: 样品规格 | O1: 商标 | P1: 生产日期 | Q1: 抽样时间* | R1: 被抽样单位名称* | S1: 单位地址* | T1: 被抽样单位负责(联系)人* | U1: 电话* | V1: 标识生产企业名称 | W1: 标识生产企业地址 | X1: 报告分类
A2: 9 | B2: 2023年广东广州荔湾区315食品专项抽样检验 | C2: 批发市场 | F2: 食用农产品 | G2: 蔬菜 | H2: 叶菜类蔬菜 | I2: 芹菜 | J2: 食安2023-03-2401 | K2: XBJ23440103606410005 | L2: =VLOOKUP(K2,Sheet7!A:A,1,0) -> #N/A | M2: 西芹 | N2: / | O2: / | P2: 2023/3/15 0:00:00 | Q2: 2023/3/15 0:00:00 | R2: 荔塱农副产品综合批发市场张传辉 | S2: 广州市荔湾区花地大道南18号荔塱农副产品综合批发市场B区129 | T2: 张传辉 | U2: 13725188385 | V2: / | W2: / | X2: 合格报告
A3: 9 | B3: 2023年广东广州荔湾区315食品专项抽样检验 | C3: 菜市场 | F3: 食用农产品 | G3: 畜禽肉及副产品 | H3: 畜肉 | I3: 牛肉 | J3: 食安2023-03-2430 | K3: XBJ23440103606410010 | L3: =VLOOKUP(K3,Sheet7!A:A,1,0) -> #N/A | M3: 牛肉 | N3: / | O3: / | P3: 2023/3/15 0:00:00 | Q3: 2023/3/15 0:00:00 | R3: 广州市荔湾区球记牛肉店 | S3: 广州市荔湾区龙津肉菜市场3档 | T3: 严均球 | U3: 13632353378 | V3: 佛山市三水金盛菜牛定点屠宰肉联厂有限公司 | W3: 广东省佛山市三水区西南街道办基塘村委会黄竹坑村湴坑 | X3: 合格报告
A4: 9 | B4: 2023年广东广州荔湾区315食品专项抽样检验 | C4: 菜市场 | F4: 食用农产品 | G4: 畜禽肉及副产品 | H4: 畜肉 | I4: 猪肉 | J4: 食安2023-03-2429 | K4: XBJ23440103606410007 | L4: =VLOOKUP(K4,Sheet7!A:A,1,0) -> #N/A | M4: 猪肉 | N4: / | O4: / | P4: 2023/3/15 0:00:00 | Q4: 2023/3/15 0:00:00 | R4: 龙津肉菜市场卢永龙 | S4: 广州市荔湾区龙津中路438号首层龙津肉菜市场10A档 | T4: 苏燕 | U4: 15018773234 | V4: 广州孔旺记食品有限公司 | W4: 广东省广州市白云区江高镇茅山东北街21号自编9栋 | X4: 合格报告
A5: 9 | B5: 2023年广东广州荔湾区315食品专项抽样检验 | C5: 批发市场 | F5: 食用农产品 | G5: 蔬菜 | H5: 豆类蔬菜 | I5: 豇豆 | J5: 食安2023-03-2400 | K5: XBJ23440103606410004 | L5: =VLOOKUP(K5,Sheet7!A:A,1,0) -> #N/A | M5: 豇豆 | N5: / | O5: / | P5: 2023/3/15 0:00:00 | Q5: 2023/3/15 0:00:00 | R5: 荔塱农副产品综合批发市场张传辉 | S5: 广州市荔湾区花地大道南18号荔塱农副产品综合批发市场B区129 | T5: 张传辉 | U5: 13725188385 | V5: / | W5: / | X5: 合格报告
A6: 9 | B6: 2023年广东广州荔湾区315食品专项抽样检验 | C6: 农贸市场 | F6: 食用农产品 | G6: 蔬菜 | H6: 芸薹属类蔬菜 | I6: 菜薹 | J6: 食安2023-03-2414 | K6: XBJ23440103606410035 | L6: =VLOOKUP(K6,Sheet7!A:A,1,0) -> #N/A | M6: 菜心 | N6: / | O6: / | P6: 2023/3/15 0:00:00 | Q6: 2023/3/15 0:00:00 | R6: 广州市荔湾区高振作蔬菜档 | S6: 广州市荔湾区龙津中路梁家里12号首层鸿福肉菜市场自编外20号档 | T6: 高振作 | U6: 15250273284 | V6: / | W6: / | X6: 合格报告
A7: 9 | B7: 2023年广东广州荔湾区315食品专项抽样检验 | C7: 菜市场 | F7: 食用农产品 | G7: 畜禽肉及副产品 | H7: 畜肉 | I7: 猪肉 | J7: 食安2023-03-2428 | K7: XBJ23440103606410006 | L7: =VLOOKUP(K7,Sheet7!A:A,1,0) -> #N/A | M7: 猪肉 | N7: / | O7: / | P7: 2023/3/15 0:00:00 | Q7: 2023/3/15 0:00:00 | R7: 龙津肉菜市场周达开 | S7: 广州市荔湾区龙津肉菜市场4档 | T7: 伍少有 | U7: 13143759850 | V7: 广州孔旺记食品有限公司 | W7: 广东省广州市白云区江高镇茅山东北街21号自编9栋 | X7: 合格报告
A8: 9 | B8: 2023年广东广州荔湾区315食品专项抽样检验 | C8: 农贸市场 | F8: 食用农产品 | G8: 蔬菜 | H8: 茄果类蔬菜 | I8: 茄子 | J8: 食安2023-03-2412 | K8: XBJ23440103606410032 | L8: =VLOOKUP(K8,Sheet7!A:A,1,0) -> #N/A | M8: 茄子 | N8: / | O8: / | P8: 2023/3/15 0:00:00 | Q8: 2023/3/15 0:00:00 | R8: 鸿福肉菜市场黄超英 | S8: 广州市荔湾区龙津中路梁家里12号首层鸿福市场外41档 | T8: 黄明开 | U8: 18520350236 | V8: / | W8: / | X8: 合格报告
A9: 9 | B9: 2023年广东广州荔湾区315食品专项抽样检验 | C9: 农贸市场 | F9: 食用农产品 | G9: 畜禽肉及副产品 | H9: 畜肉 | I9: 猪肉 | J9: 食安2023-03-2424 | K9: XBJ23440103606410029 | L9: =VLOOKUP(K9,Sheet7!A:A,1,0) -> #N/A | M9: 猪肉 | N9: / | O9: / | P9: 2023/3/14 0:00:00 | Q9: 2023/3/15 0:00:00 | R9: 广州市荔湾区德利生鲜超市 | S9: 广州市荔湾区龙津中路梁家里10号102房 | T9: 黄德胜 | U9: 13725388608 | V9: 广州市番禺食品有限公司大石分公司 | W9: 广东省广州市番禺区大石街道大石茶庄路 | X9: 合格报告
A10: 9 | B10: 2023年广东广州荔湾区315食品专项抽样检验 | C10: 农贸市场 | F10: 食用农产品 | G10: 蔬菜 | H10: 叶菜类蔬菜 | I10: 油麦菜 | J10: 食安2023-03-2411 | K10: XBJ23440103606410031 | L10: =VLOOKUP(K10,Sheet7!A:A,1,0) -> #N/A | M10: 油麦菜 | N10: / | O10: / | P10: 2023/3/15 0:00:00 | Q10: 2023/3/15 0:00:00 | R10: 鸿福肉菜市场黄素林 | S10: 广州市荔湾区龙津中路梁家里12号首层鸿福市场自编外39号 | T10: 黄素林 | U10: 13420774560 | V10: / | W10: / | X10: 合格报告
A11: 9 | B11: 2023年广东广州荔湾区315食品专项抽样检验 | C11: 农贸市场 | F11: 食用农产品 | G11: 水产品 | H11: 淡水产品 | I11: 淡水鱼 | J11: 食安2023-03-2425 | K11: XBJ23440103606410026 | L11: =VLOOKUP(K11,Sheet7!A:A,1,0) -> #N/A | M11: 大口黑鲈 | N11: / | O11: / | P11: 2023/3/15 0:00:00 | Q11: 2023/3/15 0:00:00 | R11: 广州市荔湾区王文良鱼店 | S11: 广州市荔湾区龙津中路梁家里12号首层自编内29号档 | T11: 王文良 | U11: 15013386051 | V11: / | W11: / | X11: 合格报告
A12: 9 | B12: 2023年广东广州荔湾区315食品专项抽样检验 | C12: 农贸市场 | F12: 食用农产品 | G12: 蔬菜 | H12: 豆芽 | I12: 豆芽 | J12: 食安2023-03-2406 | K12: XBJ23440103606410028 | L12: =VLOOKUP(K12,Sheet7!A:A,1,0) -> #N/A | M12: 绿豆芽 | N12: / | O12: / | P12: 2023/3/15 0:00:00 | Q12: 2023/3/15 0:00:00 | R12: 广州市荔湾区军莲豆制品店 | S12: 广州市荔湾区龙津中路梁家里14号104房 | T12: 李和莲 | U12: 13060636856 | V12: / | W12: / | X12: 合格报告
A13: 9 | B13: 2023年广东广州荔湾区315食品专项抽样检验 | C13: 农贸市场 | F13: 食用农产品 | G13: 蔬菜 | H13: 叶菜类蔬菜 | I13: 芹菜 | J13: 食安2023-03-2404 | K13: XBJ23440103606410034 | L13: =VLOOKUP(K13,Sheet7!A:A,1,0) -> #N/A | M13: 西芹 | N13: / | O13: / | P13: 2023/3/15 0:00:00 | Q13: 2023/3/15 0:00:00 | R13: 广州市荔湾区连喜蔬菜档 | S13: 广州市荔湾区龙津中路梁家里12号首层鸿福市场外44档 | T13: 谭连喜 | U13: 13622868768 | V13: / | W13: / | X13: 合格报告
... A50: 9 | B50: 2023年广东广州荔湾区4-6月流通环节食品安全抽样检验 | C50: 网购 | F50: 食用农产品 | G50: 蔬菜 | H50: 根茎类和薯芋类蔬菜 | I50: 姜 | J50: 食安2023-06-5757 | K50: XBJ23440103606442647 | L50: =VLOOKUP(K50,Sheet7!A:A,1,0) -> #N/A | M50: 包装生姜＊ | N50: ＞＝300g/袋 | O50: / | P50: 2023/6/10 0:00:00 | Q50: 2023/6/10 0:00:00 | R50: 广州市好又多芳村百货商业有限公司 | S50: 广州市荔湾区花地大道北93-103号花地城广场地下负一层、首至三层 | T50: / | U50: / | V50: 深圳市俊隆果菜农业技术开发有限公司 | W50: / | X50: 合格报告
A51: 0 | B51: 2023年广东广州荔湾区4-6月流通环节食品安全抽样检验 | C51: 网购 | F51: 食用农产品 | G51: 蔬菜 | H51: 根茎类和薯芋类蔬菜 | I51: 姜 | K51: XBJ23440103606442532 | L51: =VLOOKUP(K51,Sheet7!A:A,1,0) -> XBJ23440103606442532 | M51: 精选老姜约300g | N51: 约300g/袋 | O51: / | P51: 2023/6/8 0:00:00 | Q51: 2023/6/10 0:00:00 | R51: 广州象鲜科技有限公司 | S51: 广州市黄埔区护林路1010号B101铺 | T51: / | U51: / | V51: 广州象鲜科技有限公司 | W51: 广州市黄埔区笔岗社区笔岗新村大街32号博展物流城B区H栋
A52: 9 | B52: 2023年广东广州荔湾区4-6月流通环节食品安全抽样检验 | C52: 网购 | F52: 食用农产品 | G52: 蔬菜 | H52: 芸薹属类蔬菜 | I52: 菜薹 | J52: 食安2023-06-5753 | K52: XBJ23440103606442643 | L52: =VLOOKUP(K52,Sheet7!A:A,1,0) -> #N/A | M52: 包装菜心＊ | N52: 300g/袋 | O52: / | P52: 2023/6/10 0:00:00 | Q52: 2023/6/10 0:00:00 | R52: 广州市好又多芳村百货商业有限公司 | S52: 广州市荔湾区花地大道北93-103号花地城广场地下负一层、首至三层 | T52: / | U52: / | V52: 深圳市俊隆果菜农业技术开发有限公司 | W52: / | X52: 合格报告
A53: 0 | B53: 2023年广东广州荔湾区4-6月流通环节食品安全抽样检验 | C53: 网购 | F53: 食用农产品 | G53: 蔬菜 | H53: 叶菜类蔬菜 | I53: 油麦菜 | K53: XBJ23440103606442534 | L53: =VLOOKUP(K53,Sheet7!A:A,1,0) -> XBJ23440103606442534 | M53: 油麦菜约450g | N53: 约450g/袋 | O53: / | P53: 2023/6/9 0:00:00 | Q53: 2023/6/10 0:00:00 | R53: 广州象鲜科技有限公司 | S53: 广州市黄埔区护林路1010号B101铺 | T53: / | U53: / | V53: 广州象鲜科技有限公司 | W53: 广州市黄埔区笔岗社区笔岗新村大街32号博展物流城B区H栋
A54: 0 | B54: 2023年广东广州荔湾区4-6月流通环节食品安全抽样检验 | C54: 网购 | F54: 食用农产品 | G54: 水果类 | H54: 热带和亚热带水果 | I54: 香蕉 | K54: XBJ23440103606442535 | L54: =VLOOKUP(K54,Sheet7!A:A,1,0) -> XBJ23440103606442535 | M54: 国产香蕉约600g(轻微花皮) | N54: 约600g/袋 | O54: / | P54: 2023/6/9 0:00:00 | Q54: 2023/6/10 0:00:00 | R54: 广州象鲜科技有限公司 | S54: 广州市黄埔区护林路1010号B101铺 | T54: / | U54: / | V54: 广州象鲜科技有限公司 | W54: 广州市黄埔区笔岗社区笔岗新村大街32号博展物流城B区H栋
A55: 7 | B55: 2023年广东广州荔湾区4-6月流通环节食品安全抽样检验 | C55: 网购 | F55: 食用农产品 | G55: 水果类 | H55: 热带和亚热带水果 | I55: 香蕉 | J55: 食安2023-06-5758 | K55: XBJ23440103606442648 | L55: =VLOOKUP(K55,Sheet7!A:A,1,0) -> #N/A | M55: 都乐金标香蕉 | N55: 650g/袋 | O55: Everich及图形商标 | P55: 2023/6/10 0:00:00 | Q55: 2023/6/10 0:00:00 | R55: 广州市好又多芳村百货商业有限公司 | S55: 广州市荔湾区花地大道北93-103号花地城广场地下负一层、首至三层 | T55: / | U55: / | V55: 上海都乐食品有限公司东莞分公司 | W55: 广东省东莞市虎门龙眼二路30号 | X55: 合格报告
A56: 0 | B56: 2023年广东广州荔湾区4-6月流通环节食品安全抽样检验 | C56: 网购 | F56: 食用农产品 | G56: 鲜蛋 | H56: 鲜蛋 | I56: 鸡蛋 | K56: XBJ23440103606442536 | L56: =VLOOKUP(K56,Sheet7!A:A,1,0) -> XBJ23440103606442536 | M56: 鲜鸡蛋 | N56: 750g(15枚)/盒 | O56: / | P56: 2023/6/4 0:00:00 | Q56: 2023/6/10 0:00:00 | R56: 广州象鲜科技有限公司 | S56: 广州市黄埔区护林路1010号B101铺 | T56: / | U56: / | V56: 广东山野农业科技有限公司 | W56: 广东省佛山市南海区狮山镇狮北天湖西社村工业园区
A57: 0 | B57: 2023年广东广州荔湾区4-6月流通环节食品安全抽样检验 | C57: 网购 | F57: 食用农产品 | G57: 畜禽肉及副产品 | H57: 畜肉 | I57: 牛肉 | K57: XBJ23440103606442529 | L57: =VLOOKUP(K57,Sheet7!A:A,1,0) -> XBJ23440103606442529 | M57: 利源昌黄牛肉200g | N57: 200g/盒 | O57: / | P57: 2023/6/9 0:00:00 | Q57: 2023/6/10 0:00:00 | R57: 广州象鲜科技有限公司 | S57: 广州市黄埔区护林路1010号B101铺 | T57: / | U57: / | V57: 朱海粤淇食品有限公司 | W57: 前山商贸物流中心华威路5-9地块1号楼首层
A58: 9 | B58: 2023年广东广州荔湾区4-6月流通环节食品安全抽样检验 | C58: 网购 | F58: 食用农产品 | G58: 水果类 | H58: 柑橘类水果 | I58: 柑、橘 | J58: 食安2023-06-5762 | K58: XBJ23440103606442615 | L58: =VLOOKUP(K58,Sheet7!A:A,1,0) -> #N/A | M58: 云南沃柑 约800g | N58: 约800g/份 | O58: / | P58: 2023/6/8 0:00:00 | Q58: 2023/6/10 0:00:00 | R58: 有菱感（广州）电子商务有限公司 | S58: 广州市荔湾区龙溪西路42号（仅限办公） | T58: / | U58: / | V58: / | W58: / | X58: 合格报告
A59: 9 | B59: 2023年广东广州荔湾区4-6月流通环节食品安全抽样检验 | C59: 网购 | F59: 食用农产品 | G59: 蔬菜 | H59: 芸薹属类蔬菜 | I59: 菜薹 | J59: 食安2023-06-5763 | K59: XBJ23440103606442619 | L59: =VLOOKUP(K59,Sheet7!A:A,1,0) -> #N/A | M59: 【高原夏菜】宁夏菜心苗 | N59: 约250g/份 | O59: / | P59: 2023/6/9 0:00:00 | Q59: 2023/6/10 0:00:00 | R59: 有菱感（广州）电子商务有限公司 | S59: 广州市荔湾区龙溪西路42号（仅限办公） | T59: / | U59: / | V59: / | W59: / | X59: 合格报告
A60: 9 | B60: 2023年广东广州荔湾区4-6月流通环节食品安全抽样检验 | C60: 网购 | F60: 食用农产品 | G60: 蔬菜 | H60: 叶菜类蔬菜 | I60: 油麦菜 | J60: 食安2023-06-5765 | K60: XBJ23440103606442620 | L60: =VLOOKUP(K60,Sheet7!A:A,1,0) -> #N/A | M60: 油麦菜 约500g | N60: 约500g/份 | O60: / | P60: 2023/6/10 0:00:00 | Q60: 2023/6/10 0:00:00 | R60: 有菱感（广州）电子商务有限公司 | S60: 广州市荔湾区龙溪西路42号（仅限办公） | T60: / | U60: / | V60: / | W60: / | X60: 合格报告
A61: 9 | B61: 2023年广东广州荔湾区4-6月流通环节食品安全抽样检验 | C61: 网购 | F61: 食用农产品 | G61: 鲜蛋 | H61: 鲜蛋 | I61: 鸡蛋 | J61: 食安2023-06-5761 | K61: XBJ23440103606442616 | L61: =VLOOKUP(K61,Sheet7!A:A,1,0) -> #N/A | M61: 土鸡蛋30枚 | N61: 30枚/盒 | O61: / | P61: 2023/6/9 0:00:00 | Q61: 2023/6/10 0:00:00 | R61: 有菱感（广州）电子商务有限公司 | S61: 广州市荔湾区龙溪西路42号（仅限办公） | T61: / | U61: / | V61: / | W61: / | X61: 合格报告
A62: 9 | B62: 2023年广东广州荔湾区4-6月流通环节食品安全抽样检验 | C62: 网购 | F62: 食用农产品 | G62: 蔬菜 | H62: 豆类蔬菜 | I62: 豇豆 | J62: 食安2023-06-5760 | K62: XBJ23440103606442617 | L62: =VLOOKUP(K62,Sheet7!A:A,1,0) -> #N/A | M62: 【三优蔬菜】豇豆约300g | N62: 约300g/份 | O62: / | P62: 2023/6/10 0:00:00 | Q62: 2023/6/10 0:00:00 | R62: 有菱感（广州）电子商务有限公司 | S62: 广州市荔湾区龙溪西路42号（仅限办公） | T62: / | U62: / | V62: / | W62: / | X62: 合格报告
A63: 5 | B63: 2023年广东广州荔湾区4-6月流通环节食品安全抽样检验 | C63: 网购 | F63: 食用农产品 | G63: 水果类 | H63: 热带和亚热带水果 | I63: 香蕉 | J63: 食安2023-06-5759 | K63: XBJ23440103606442614 | L63: =VLOOKUP(K63,Sheet7!A:A,1,0) -> #N/A | M63: 菲律宾进口香蕉 约600g | N63: 约600g/份 | O63: / | P63: 2023/6/7 0:00:00 | Q63: 2023/6/10 0:00:00 | R63: 有菱感（广州）电子商务有限公司 | S63: 广州市荔湾区龙溪西路42号（仅限办公） | T63: / | U63: / | V63: / | W63: / | X63: 合格报告
A64: 9 | B64: 2023年广东广州荔湾区4-6月流通环节食品安全抽样检验 | C64: 网购 | F64: 食用农产品 | G64: 蔬菜 | H64: 叶菜类蔬菜 | I64: 普通白菜 | J64: 食安2023-06-5766 | K64: XBJ23440103606442621 | L64: =VLOOKUP(K64,Sheet7!A:A,1,0) -> #N/A | M64: 【高原夏菜】宁夏学斗白 | N64: 约300g/份 | O64: / | P64: 2023/6/10 0:00:00 | Q64: 2023/6/10 0:00:00 | R64: 有菱感（广州）电子商务有限公司 | S64: 广州市荔湾区龙溪西路42号（仅限办公） | T64: / | U64: / | V64: / | W64: / | X64: 合格报告
A65: 5 | B65: 2023年广东广州荔湾区4-6月流通环节食品安全抽样检验 | C65: 网购 | F65: 食用农产品 | G65: 蔬菜 | H65: 根茎类和薯芋类蔬菜 | I65: 姜 | J65: 食安2023-06-5764 | K65: XBJ23440103606442618 | L65: =VLOOKUP(K65,Sheet7!A:A,1,0) -> #N/A | M65: 【三优蔬菜】老姜约300g | N65: 约300g/份 | O65: / | P65: 2023/6/10 0:00:00 | Q65: 2023/6/10 0:00:00 | R65: 有菱感（广州）电子商务有限公司 | S65: 广州市荔湾区龙溪西路42号（仅限办公） | T65: / | U65: / | V65: / | W65: / | X65: 合格报告
A66: 9 | B66: 2023年广东广州荔湾区4-6月流通环节食品安全抽样检验 | C66: 网购 | F66: 食用农产品 | G66: 畜禽肉及副产品 | H66: 畜肉 | I66: 牛肉 | J66: 食安2023-06-6470 | K66: XBJ23440103606442641 | L66: =VLOOKUP(K66,Sheet7!A:A,1,0) -> #N/A | M66: 冷鲜牛肉 | N66: 400g/盒 | O66: / | P66: 2023/6/9 0:00:00 | Q66: 2023/6/10 0:00:00 | R66: 广州市好又多芳村百货商业有限公司 | S66: 广州市荔湾区花地大道北93-103号花地城广场地下负一层、首至三层 | T66: / | U66: / | V66: 广州九里香食品有限公司 | W66: 广州市南沙区留新路3号2栋102房 | X66: 合格报告
A67: 0 | B67: 2023年广东广州荔湾区4-6月流通环节食品安全抽样检验 | C67: 网购 | F67: 食用农产品 | G67: 畜禽肉及副产品 | H67: 禽肉 | I67: 鸡肉 | K67: XBJ23440103606442530 | L67: =VLOOKUP(K67,Sheet7!A:A,1,0) -> XBJ23440103606442530 | M67: 优质冷鲜鸡全腿 | N67: 500g/盒 | O67: / | P67: 2023/6/7 0:00:00 | Q67: 2023/6/10 0:00:00 | R67: 广州象鲜科技有限公司 | S67: 广州市黄埔区护林路1010号B101铺 | T67: / | U67: / | V67: 正大食品(湛江)有限公司 | W67: 广东省湛江市遂溪县洋青镇县道682线城榄村路口南侧
A68: 9 | B68: 2023年广东广州荔湾区4-6月流通环节食品安全抽样检验 | C68: 网购 | F68: 食用农产品 | G68: 畜禽肉及副产品 | H68: 畜肉 | I68: 牛肉 | J68: 食安2023-06-6474 | K68: XBJ23440103606442660 | L68: =VLOOKUP(K68,Sheet7!A:A,1,0) -> #N/A | M68: 小公牛鲜牛肉 | N68: / | O68: / | P68: 2023/6/4 0:00:00 | Q68: 2023/6/10 0:00:00 | R68: 广州市朴朴网络科技有限公司 | S68: 广州市越秀区广州大道中289号采编楼2301、2302、2303、2304室 | T68: / | U68: / | V68: 河南恒都食品有限公司 | W68: 泌阳县工业园区(花园路西段) | X68: 合格报告
A69: 9 | B69: 2023年广东广州荔湾区4-6月流通环节食品安全抽样检验 | C69: 网购 | F69: 食用农产品 | G69: 水果类 | H69: 柑橘类水果 | I69: 柑、橘 | J69: 食安2023-06-5824 | K69: XBJ23440103606442665 | L69: =VLOOKUP(K69,Sheet7!A:A,1,0) -> #N/A | M69: 云南浓味沃柑 | N69: 450g-500g/份 | O69: / | P69: 2023/6/9 0:00:00 | Q69: 2023/6/10 0:00:00 | R69: 广州市朴朴网络科技有限公司 | S69: 广州市越秀区广州大道中289号采编楼2301、2302、2303、2304室 | T69: / | U69: / | V69: / | W69: / | X69: 合格报告
A70: 0 | B70: 2023年广东广州荔湾区4-6月流通环节食品安全抽样检验 | C70: 网购 | F70: 食用农产品 | G70: 蔬菜 | H70: 叶菜类蔬菜 | I70: 芹菜 | K70: XBJ23440103606442664 | L70: =VLOOKUP(K70,Sheet7!A:A,1,0) -> XBJ23440103606442664 | M70: 西芹约700g | N70: / | O70: / | P70: 2023/6/9 0:00:00 | Q70: 2023/6/10 0:00:00 | R70: 广州市朴朴网络科技有限公司 | S70: 广州市越秀区广州大道中289号采编楼2301、2302、2303、2304室 | T70: / | U70: / | V70: / | W70: /
A71: 7 | B71: 2023年广东广州荔湾区4-6月流通环节食品安全抽样检验 | C71: 网购 | F71: 食用农产品 | G71: 畜禽肉及副产品 | H71: 禽肉 | I71: 鸡肉 | J71: 食安2023-06-6479 | K71: XBJ23440103606442642 | L71: =VLOOKUP(K71,Sheet7!A:A,1,0) -> #N/A | M71: 鸡翅中 | N71: 1kg/袋 | O71: / | P71: 2023/3/2 0:00:00 | Q71: 2023/6/10 0:00:00 | R71: 广州市好又多芳村百货商业有限公司 | S71: 广州市荔湾区花地大道北93-103号花地城广场地下负一层、首至三层 | T71: / | U71: / | V71: 山东正兴食品有限公司 | W71: 山东正兴食品有限公司三十里铺大桥南一公里路西 | X71: 合格报告
A72: 0 | B72: 2023年广东广州荔湾区4-6月流通环节食品安全抽样检验 | C72: 网购 | F72: 食用农产品 | G72: 蔬菜 | H72: 叶菜类蔬菜 | I72: 芹菜 | K72: XBJ23440103606442531 | L72: =VLOOKUP(K72,Sheet7!A:A,1,0) -> XBJ23440103606442531 | M72: 西芹500g | N72: 500g/包 | O72: / | P72: 2023/6/8 0:00:00 | Q72: 2023/6/10 0:00:00 | R72: 广州象鲜科技有限公司 | S72: 广州市黄埔区护林路1010号B101铺 | T72: / | U72: / | V72: / | W72: /
A73: 5 | B73: 2023年广东广州荔湾区4-6月流通环节食品安全抽样检验 | C73: 网购 | F73: 食用农产品 | G73: 蔬菜 | H73: 叶菜类蔬菜 | I73: 普通白菜 | J73: 食安2023-06-5756 | K73: XBJ23440103606442646 | L73: =VLOOKUP(K73,Sheet7!A:A,1,0) -> #N/A | M73: 包装上海青＊ | N73: 300g/袋 | O73: / | P73: 2023/6/10 0:00:00 | Q73: 2023/6/10 0:00:00 | R73: 广州市好又多芳村百货商业有限公司 | S73: 广州市荔湾区花地大道北93-103号花地城广场地下负一层、首至三层 | T73: / | U73: / | V73: 深圳市俊隆果菜农业技术开发有限公司 | W73: / | X73: 合格报告
A74: 0 | B74: 2023年广东广州荔湾区4-6月流通环节食品安全抽样检验 | C74: 网购 | F74: 食用农产品 | G74: 蔬菜 | H74: 叶菜类蔬菜 | I74: 普通白菜 | K74: XBJ23440103606442533 | L74: =VLOOKUP(K74,Sheet7!A:A,1,0) -> XBJ23440103606442533 | M74: 上海青苗约300g | N74: 约300g/袋 | O74: / | P74: 2023/6/8 0:00:00 | Q74: 2023/6/10 0:00:00 | R74: 广州象鲜科技有限公司 | S74: 广州市黄埔区护林路1010号B101铺 | T74: / | U74: / | V74: 广州象鲜科技有限公司 | W74: 广州市黄埔区笔岗社区笔岗新村大街32号博展物流城B区H栋
A75: 9 | B75: 2023年广东广州荔湾区4-6月流通环节食品安全抽样检验 | C75: 网购 | F75: 食用农产品 | G75: 蔬菜 | H75: 叶菜类蔬菜 | I75: 油麦菜 | J75: 食安2023-06-5754 | K75: XBJ23440103606442644 | L75: =VLOOKUP(K75,Sheet7!A:A,1,0) -> #N/A | M75: 包装油麦菜＊ | N75: 350g/袋 | O75: / | P75: 2023/6/10 0:00:00 | Q75: 2023/6/10 0:00:00 | R75: 广州市好又多芳村百货商业有限公司 | S75: 广州市荔湾区花地大道北93-103号花地城广场地下负一层、首至三层 | T75: / | U75: / | V75: 深圳市俊隆果菜农业技术开发有限公司 | W75: / | X75: 合格报告
A76: 9 | B76: 2023年广东广州荔湾区4-6月流通环节食品安全抽样检验 | C76: 网购 | F76: 食用农产品 | G76: 鲜蛋 | H76: 鲜蛋 | I76: 鸡蛋 | J76: 食安2023-06-5755 | K76: XBJ23440103606442645 | L76: =VLOOKUP(K76,Sheet7!A:A,1,0) -> #N/A | M76: 壹号鲜鸡蛋 | N76: 600g(10枚)/盒 | O76: / | P76: 2023/6/3 0:00:00 | Q76: 2023/6/10 0:00:00 | R76: 广州市好又多芳村百货商业有限公司 | S76: 广州市荔湾区花地大道北93-103号花地城广场地下负一层、首至三层 | T76: / | U76: / | V76: 广东三天鲜畜牧有限公司 | W76: 广州市从化区鳌头镇务丰村北闸三街398号201 | X76: 合格报告
A77: 5 | B77: 2023年广东广州荔湾区4-6月流通环节食品安全抽样检验 | C77: 网购 | F77: 食用农产品 | G77: 水果类 | H77: 热带和亚热带水果 | I77: 香蕉 | J77: 食安2023-06-6621 | K77: XBJ23440103606442708 | L77: =VLOOKUP(K77,Sheet7!A:A,1,0) -> #N/A | M77: 佳农有机超糯蕉650g | N77: 650g/袋 | O77: 佳农 | P77: 2023/6/11 0:00:00 | Q77: 2023/6/12 0:00:00 | R77: 广州盒马鲜生网络科技有限公司荔湾区第一分公司 | S77: 广州市荔湾区中山七路48号124铺(102房自编10铺)、中山七路48号B101铺(B101房自编01铺) | T77: / | U77: / | V77: 佳农食品(上海)有限公司 | W77: 广东省东莞市沙田镇荣轩路富港顺工业园 | X77: 合格报告
A78: 7 | B78: 2023年广东广州荔湾区4-6月流通环节食品安全抽样检验 | C78: 网购 | F78: 食用农产品 | G78: 畜禽肉及副产品 | H78: 禽肉 | I78: 鸡肉 | J78: 食安2023-06-7018 | K78: XBJ23440103606442710 | L78: =VLOOKUP(K78,Sheet7!A:A,1,0) -> #N/A | M78: 无抗鸡琵琶腿 | N78: 500克/袋 | O78: / | P78: 2023/2/21 0:00:00 | Q78: 2023/6/12 0:00:00 | R78: 广州盒马鲜生网络科技有限公司荔湾区第一分公司 | S78: 广州市荔湾区中山七路48号124铺(102房自编10铺)、中山七路48号B101铺(B101房自编01铺) | T78: / | U78: / | V78: 湖北正大有限公司 | W78: 湖北省随州高新技术产业园区季梁大道001号 | X78: 合格报告
A79: 9 | B79: 2023年广东广州荔湾区4-6月流通环节食品安全抽样检验 | C79: 网购 | F79: 食用农产品 | G79: 蔬菜 | H79: 芸薹属类蔬菜 | I79: 菜薹 | J79: 食安2023-06-6623 | K79: XBJ23440103606442711 | L79: =VLOOKUP(K79,Sheet7!A:A,1,0) -> #N/A | M79: 宁夏菜心300g | N79: 300g/袋 | O79: / | P79: 2023/6/11 0:00:00 | Q79: 2023/6/12 0:00:00 | R79: 广州盒马鲜生网络科技有限公司荔湾区第一分公司 | S79: 广州市荔湾区中山七路48号124铺(102房自编10铺)、中山七路48号B101铺(B101房自编01铺) | T79: / | U79: / | V79: GZ-蔬菜-深圳市正禾蔬菜有限公司-蔬菜 | W79: / | X79: 合格报告
A80: 9 | B80: 2023年广东广州荔湾区4-6月流通环节食品安全抽样检验 | C80: 网购 | F80: 食用农产品 | G80: 蔬菜 | H80: 叶菜类蔬菜 | I80: 油麦菜 | J80: 食安2023-06-6626 | K80: XBJ23440103606442714 | L80: =VLOOKUP(K80,Sheet7!A:A,1,0) -> #N/A | M80: 盒马日日鲜高原油麦菜约400g | N80: 称重 | O80: / | P80: 2023/6/11 0:00:00 | Q80: 2023/6/12 0:00:00 | R80: 广州盒马鲜生网络科技有限公司荔湾区第一分公司 | S80: 广州市荔湾区中山七路48号124铺(102房自编10铺)、中山七路48号B101铺(B101房自编01铺) | T80: / | U80: / | V80: 广州盒马鲜生网络科技有限公司 | W80: / | X80: 合格报告
A81: 9 | B81: 2023年广东广州荔湾区4-6月流通环节食品安全抽样检验 | C81: 网购 | F81: 食用农产品 | G81: 鲜蛋 | H81: 鲜蛋 | I81: 鸡蛋 | J81: 食安2023-06-6620 | K81: XBJ23440103606442707 | L81: =VLOOKUP(K81,Sheet7!A:A,1,0) -> #N/A | M81: 可生食鲜鸡蛋 | N81: 15枚装(825g)/盒 | O81: / | P81: 2023/6/11 0:00:00 | Q81: 2023/6/12 0:00:00 | R81: 广州盒马鲜生网络科技有限公司荔湾区第一分公司 | S81: 广州市荔湾区中山七路48号124铺(102房自编10铺)、中山七路48号B101铺(B101房自编01铺) | T81: / | U81: / | V81: 小町蛋业(山东)有限公司 | W81: 山东省临沂市费县新庄镇 | X81: 合格报告
A82: 7 | B82: 2023年广东广州荔湾区4-6月流通环节食品安全抽样检验 | C82: 网购 | F82: 食用农产品 | G82: 蔬菜 | H82: 叶菜类蔬菜 | I82: 芹菜 | J82: 食安2023-06-6624 | K82: XBJ23440103606442712 | L82: =VLOOKUP(K82,Sheet7!A:A,1,0) -> #N/A | M82: 高原西芹 约500g | N82: 称重 | O82: / | P82: 2023/6/10 0:00:00 | Q82: 2023/6/12 0:00:00 | R82: 广州盒马鲜生网络科技有限公司荔湾区第一分公司 | S82: 广州市荔湾区中山七路48号124铺(102房自编10铺)、中山七路48号B101铺(B101房自编01铺) | T82: / | U82: / | V82: 广州盒马鲜生网络科技有限公司 | W82: / | X82: 合格报告
A83: 9 | B83: 2023年广东广州荔湾区4-6月流通环节食品安全抽样检验 | C83: 网购 | F83: 食用农产品 | G83: 水果类 | H83: 柑橘类水果 | I83: 柑、橘 | J83: 食安2023-06-6622 | K83: XBJ23440103606442709 | L83: =VLOOKUP(K83,Sheet7!A:A,1,0) -> #N/A | M83: 云南沃柑900g(单果100g+) | N83: 900g/盒 | O83: / | P83: 2023/6/12 0:00:00 | Q83: 2023/6/12 0:00:00 | R83: 广州盒马鲜生网络科技有限公司荔湾区第一分公司 | S83: 广州市荔湾区中山七路48号124铺(102房自编10铺)、中山七路48号B101铺(B101房自编01铺) | T83: / | U83: / | V83: / | W83: / | X83: 合格报告
A84: 5 | B84: 2023年广东广州荔湾区4-6月流通环节食品安全抽样检验 | C84: 网购 | F84: 食用农产品 | G84: 蔬菜 | H84: 叶菜类蔬菜 | I84: 普通白菜 | J84: 食安2023-06-6625 | K84: XBJ23440103606442713 | L84: =VLOOKUP(K84,Sheet7!A:A,1,0) -> #N/A | M84: 盒马日日鲜上海青300g | N84: 300g/袋 | O84: / | P84: 2023/6/11 0:00:00 | Q84: 2023/6/12 0:00:00 | R84: 广州盒马鲜生网络科技有限公司荔湾区第一分公司 | S84: 广州市荔湾区中山七路48号124铺(102房自编10铺)、中山七路48号B101铺(B101房自编01铺) | T84: / | U84: / | V84: 广州盒马鲜生网络科技有限公司 | W84: 广州市增城区创业大道161号菜鸟网络 | X84: 合格报告
A85: 9 | B85: 2023年广东广州荔湾区4-6月流通环节食品安全抽样检验 | C85: 超市 | F85: 食用农产品 | G85: 鲜蛋 | H85: 鲜蛋 | I85: 鸡蛋 | J85: 食安2023-06-6866 | K85: XBJ23440103606410561 | L85: =VLOOKUP(K85,Sheet7!A:A,1,0) -> #N/A | M85: 虫草五谷蛋 | N85: 散装称重 | O85: / | P85: 2023/6/10 0:00:00 | Q85: 2023/6/13 0:00:00 | R85: 广州市荔湾区惠尔美生鲜超市 | S85: 广州市荔湾区西塱永安大街一巷1号之一101房 | T85: 陈光火 | U85: 18578649517 | V85: / | W85: / | X85: 合格报告
A86: 9 | B86: 2023年广东广州荔湾区4-6月流通环节食品安全抽样检验 | C86: 超市 | F86: 食用农产品 | G86: 蔬菜 | H86: 叶菜类蔬菜 | I86: 油麦菜 | J86: 食安2023-06-6864 | K86: XBJ23440103606410559 | L86: =VLOOKUP(K86,Sheet7!A:A,1,0) -> #N/A | M86: 油麦菜 | N86: 散装称重 | O86: / | P86: 2023/6/13 0:00:00 | Q86: 2023/6/13 0:00:00 | R86: 广州市荔湾区惠尔美生鲜超市 | S86: 广州市荔湾区西塱永安大街一巷1号之一101房 | T86: 陈光火 | U86: 18578649517 | V86: / | W86: / | X86: 合格报告
... A126: 9 | B126: 2023年广东广州荔湾区4-6月流通环节食品安全抽样检验 | C126: 其他(食杂店) | F126: 食用农产品 | G126: 鲜蛋 | H126: 鲜蛋 | I126: 鸡蛋 | J126: 食安2023-06-7304 | K126: XBJ23440103606410580 | L126: =VLOOKUP(K126,Sheet7!A:A,1,0) -> #N/A | M126: 鸡蛋 | N126: 散装称重 | O126: / | P126: 2023/6/2 0:00:00 | Q126: 2023/6/15 0:00:00 | R126: 广州市荔湾区玲记食杂店 | S126: 广州市荔湾区茶滘市场室内区86、87号 | T126: 曾秀玲 | U126: 13030257804 | V126: / | W126: / | X126: 合格报告
A127: 0 | B127: 2023年广东广州荔湾区4-6月流通环节食品安全抽样检验 | C127: 超市 | F127: 食用农产品 | G127: 蔬菜 | H127: 芸薹属类蔬菜 | I127: 菜薹 | K127: XBJ23440103606410577 | L127: =VLOOKUP(K127,Sheet7!A:A,1,0) -> XBJ23440103606410577 | M127: 宁夏菜心苗 | N127: 散装称重 | O127: / | P127: 2023/6/15 0:00:00 | Q127: 2023/6/15 0:00:00 | R127: 广州市西亚兴安商业有限公司西华路第二分店 | S127: 广州市荔湾区西华路134号9号楼119-120铺 | T127: 刘志红 | U127: 13724064436 | V127: / | W127: /
A128: 7 | B128: 2023年广东广州荔湾区4-6月流通环节食品安全抽样检验 | C128: 菜市场 | F128: 食用农产品 | G128: 水产品 | H128: 淡水产品 | I128: 淡水鱼 | J128: 食安2023-06-7329 | K128: XBJ23440103606410583 | L128: =VLOOKUP(K128,Sheet7!A:A,1,0) -> #N/A | M128: 淡水鲈鱼 | N128: 散装称重 | O128: / | P128: 2023/6/13 0:00:00 | Q128: 2023/6/15 0:00:00 | R128: 广州市荔湾区超哥水产店 | S128: 广州市荔湾区芳村东漖北路558号广州市荔湾区茶滘市场室内区46、47号 | T128: 曾莲清 | U128: 13729879361 | V128: / | W128: / | X128: 合格报告
A129: 0 | B129: 2023年广东广州荔湾区4-6月流通环节食品安全抽样检验 | C129: 菜市场 | F129: 食用农产品 | G129: 蔬菜 | H129: 叶菜类蔬菜 | I129: 油麦菜 | K129: XBJ23440103606410590 | L129: =VLOOKUP(K129,Sheet7!A:A,1,0) -> XBJ23440103606410590 | M129: 油麦菜 | N129: 散装称重 | O129: / | P129: 2023/6/16 0:00:00 | Q129: 2023/6/16 0:00:00 | R129: 东方街市黄武华 | S129: 广州市荔湾区中山八路石路基39、39之一自编C64档 | T129: 刘春红 | U129: 18102726982 | V129: / | W129: /
A130: 0 | B130: 2023年广东广州荔湾区4-6月流通环节食品安全抽样检验 | C130: 菜市场 | F130: 食用农产品 | G130: 蔬菜 | H130: 豆类蔬菜 | I130: 豇豆 | K130: XBJ23440103606410593 | L130: =VLOOKUP(K130,Sheet7!A:A,1,0) -> XBJ23440103606410593 | M130: 豆角（豇豆） | N130: 散装称重 | O130: / | P130: 2023/6/16 0:00:00 | Q130: 2023/6/16 0:00:00 | R130: 东方街市黄武华 | S130: 广州市荔湾区中山八路石路基39、39之一自编C64档 | T130: 刘春红 | U130: 18102726982 | V130: / | W130: /
A131: 4 | B131: 2023年广东广州荔湾区4-6月流通环节食品安全抽样检验 | C131: 其他(食杂店) | F131: 食用农产品 | G131: 蔬菜 | H131: 豆芽 | I131: 豆芽 | J131: 食安2023-06-8104 | K131: XBJ23440103606410685 | L131: =VLOOKUP(K131,Sheet7!A:A,1,0) -> XBJ23440103606410685 | M131: 绿豆芽 | N131: 散装称重 | O131: / | P131: 2023/6/20 0:00:00 | Q131: 2023/6/20 0:00:00 | R131: 许桂清 | S131: 广州市荔湾区芳村海北村龙溪路55号海北市场自编号C6 | T131: 许桂清 | U131: 18680213418 | V131: / | W131: / | X131: 合格报告
A132: 0 | B132: 2023年广东广州荔湾区4-6月流通环节食品安全抽样检验 | C132: 其他(食杂店) | F132: 食用农产品 | G132: 蔬菜 | H132: 豆芽 | I132: 豆芽 | K132: XBJ23440103606410686 | L132: =VLOOKUP(K132,Sheet7!A:A,1,0) -> XBJ23440103606410686 | M132: 绿豆芽 | N132: 散装称重 | O132: / | P132: 2023/6/20 0:00:00 | Q132: 2023/6/20 0:00:00 | R132: 广州市荔湾区周金日杂店 | S132: 广州市荔湾区海中市场B12号档 | T132: 周金香 | U132: 13535245802 | V132: / | W132: /
A133: 4 | B133: 2023年广东广州荔湾区4-6月流通环节食品安全抽样检验 | C133: 菜市场 | F133: 食用农产品 | G133: 蔬菜 | H133: 豆芽 | I133: 豆芽 | J133: 食安2023-06-8101 | K133: XBJ23440103606410682 | L133: =VLOOKUP(K133,Sheet7!A:A,1,0) -> XBJ23440103606410682 | M133: 黄豆芽 | N133: 散装称重 | O133: / | P133: 2023/6/20 0:00:00 | Q133: 2023/6/20 0:00:00 | R133: 东漖肉菜综合市场梁德刚 | S133: 广州市荔湾区东漖南路46号东漖肉菜综合市场k2档 | T133: 梁德刚 | U133: 13112236828 | V133: / | W133: / | X133: 合格报告
A134: 0 | B134: 2023年广东广州荔湾区4-6月流通环节食品安全抽样检验 | C134: 菜市场 | F134: 食用农产品 | G134: 蔬菜 | H134: 叶菜类蔬菜 | I134: 油麦菜 | K134: XBJ23440103606410684 | L134: =VLOOKUP(K134,Sheet7!A:A,1,0) -> XBJ23440103606410684 | M134: 油麦菜 | N134: 散装称重 | O134: / | P134: 2023/6/20 0:00:00 | Q134: 2023/6/20 0:00:00 | R134: 东漖肉菜综合市场梁德刚 | S134: 广州市荔湾区东漖南路46号东漖肉菜综合市场k2档 | T134: 梁德刚 | U134: 13112236828 | V134: / | W134: /
A135: 4 | B135: 2023年广东广州荔湾区4-6月流通环节食品安全抽样检验 | C135: 菜市场 | F135: 食用农产品 | G135: 蔬菜 | H135: 豆芽 | I135: 豆芽 | J135: 食安2023-06-8099 | K135: XBJ23440103606410600 | L135: =VLOOKUP(K135,Sheet7!A:A,1,0) -> XBJ23440103606410600 | M135: 黄豆芽 | N135: 散装称重 | O135: / | P135: 2023/6/20 0:00:00 | Q135: 2023/6/20 0:00:00 | R135: 东漖肉菜综合市场汪林 | S135: 广州市荔湾区东漖南路46号东漖肉菜综合市场一楼临建N15-N20档 | T135: 汪林 | U135: 13066353670 | V135: / | W135: / | X135: 合格报告
A136: 4 | B136: 2023年广东广州荔湾区4-6月流通环节食品安全抽样检验 | C136: 菜市场 | F136: 食用农产品 | G136: 蔬菜 | H136: 豆芽 | I136: 豆芽 | J136: 食安2023-06-8100 | K136: XBJ23440103606410681 | L136: =VLOOKUP(K136,Sheet7!A:A,1,0) -> XBJ23440103606410681 | M136: 绿豆芽 | N136: 散装称重 | O136: / | P136: 2023/6/20 0:00:00 | Q136: 2023/6/20 0:00:00 | R136: 东漖肉菜综合市场汪林 | S136: 广州市荔湾区东漖南路46号东漖肉菜综合市场一楼临建N15-N20档 | T136: 汪林 | U136: 13066353670 | V136: / | W136: / | X136: 合格报告
A137: 0 | B137: 2023年广东广州荔湾区4-6月流通环节食品安全抽样检验 | C137: 菜市场 | F137: 食用农产品 | G137: 蔬菜 | H137: 豆芽 | I137: 豆芽 | K137: XBJ23440103606410688 | L137: =VLOOKUP(K137,Sheet7!A:A,1,0) -> XBJ23440103606410688 | M137: 绿豆芽 | N137: 散装称重 | O137: / | P137: 2023/6/21 0:00:00 | Q137: 2023/6/21 0:00:00 | R137: 多宝街市刘祥海 | S137: 广州市荔湾区多宝路131号首层多宝街市023号档 | T137: 刘祥海 | U137: 18613119510 | V137: / | W137: /
A138: 0 | B138: 2023年广东广州荔湾区4-6月流通环节食品安全抽样检验 | C138: 其他(食杂店) | F138: 食用农产品 | G138: 蔬菜 | H138: 豆芽 | I138: 豆芽 | K138: XBJ23440103606410690 | L138: =VLOOKUP(K138,Sheet7!A:A,1,0) -> XBJ23440103606410690 | M138: 黄豆芽 | N138: 散装称重 | O138: / | P138: 2023/6/21 0:00:00 | Q138: 2023/6/21 0:00:00 | R138: 广州市荔湾区军莲豆制品店 | S138: 广州市荔湾区龙津中路梁家里14号104房 | T138: 李和莲 | U138: 15919335266 | V138: / | W138: /
A139: 0 | B139: 2023年广东广州荔湾区4-6月流通环节食品安全抽样检验 | C139: 其他(食杂店) | F139: 食用农产品 | G139: 蔬菜 | H139: 豆芽 | I139: 豆芽 | K139: XBJ23440103606410691 | L139: =VLOOKUP(K139,Sheet7!A:A,1,0) -> XBJ23440103606410691 | M139: 绿豆芽 | N139: 散装称重 | O139: / | P139: 2023/6/21 0:00:00 | Q139: 2023/6/21 0:00:00 | R139: 广州市荔湾区军莲豆制品店 | S139: 广州市荔湾区龙津中路梁家里14号104房 | T139: 李和莲 | U139: 15919335266 | V139: / | W139: /
A140: 0 | B140: 2023年广东广州荔湾区4-6月流通环节食品安全抽样检验 | C140: 菜市场 | F140: 食用农产品 | G140: 蔬菜 | H140: 豆芽 | I140: 豆芽 | K140: XBJ23440103606410692 | L140: =VLOOKUP(K140,Sheet7!A:A,1,0) -> XBJ23440103606410692 | M140: 绿豆芽 | N140: 散装称重 | O140: / | P140: 2023/6/21 0:00:00 | Q140: 2023/6/21 0:00:00 | R140: 广州市荔湾区肖由发豆制品档 | S140: 广州市荔湾区龙津中路梁家里12号首层鸿福肉菜市场自编内3号档 | T140: 肖盼 | U140: 13794339852 | V140: / | W140: /
A141: 0 | B141: 2023年广东广州荔湾区4-6月流通环节食品安全抽样检验 | C141: 菜市场 | F141: 食用农产品 | G141: 蔬菜 | H141: 叶菜类蔬菜 | I141: 芹菜 | K141: XBJ23440103606410591 | L141: =VLOOKUP(K141,Sheet7!A:A,1,0) -> XBJ23440103606410591 | M141: 西芹 | N141: 散装称重 | O141: / | P141: 2023/6/16 0:00:00 | Q141: 2023/6/16 0:00:00 | R141: 东方街市黄武华 | S141: 广州市荔湾区中山八路石路基39、39之一自编C64档 | T141: 刘春红 | U141: 18102726982 | V141: / | W141: /
A142: 0 | B142: 2023年广东广州荔湾区4-6月流通环节食品安全抽样检验 | C142: 菜市场 | F142: 食用农产品 | G142: 蔬菜 | H142: 芸薹属类蔬菜 | I142: 菜薹 | K142: XBJ23440103606410592 | L142: =VLOOKUP(K142,Sheet7!A:A,1,0) -> XBJ23440103606410592 | M142: 菜心 | N142: 散装称重 | O142: / | P142: 2023/6/16 0:00:00 | Q142: 2023/6/16 0:00:00 | R142: 东方街市黄武华 | S142: 广州市荔湾区中山八路石路基39、39之一自编C64档 | T142: 刘春红 | U142: 18102726982 | V142: / | W142: /
A143: 0 | B143: 2023年广东广州荔湾区4-6月流通环节食品安全抽样检验 | C143: 其他(食杂店) | F143: 食用农产品 | G143: 鲜蛋 | H143: 鲜蛋 | I143: 鸡蛋 | K143: XBJ23440103606410594 | L143: =VLOOKUP(K143,Sheet7!A:A,1,0) -> XBJ23440103606410594 | M143: 鸡蛋 | N143: 散装称重 | O143: / | P143: 2023/6/14 0:00:00 | Q143: 2023/6/19 0:00:00 | R143: 广州市荔湾区聚信日杂店 | S143: 广州市荔湾区中山八路周门西街2号101房自编102铺 | T143: 曾文美 | U143: 13719210281 | V143: / | W143: /
A144: 4 | B144: 2023年广东广州荔湾区4-6月流通环节食品安全抽样检验 | C144: 菜市场 | F144: 食用农产品 | G144: 蔬菜 | H144: 豆芽 | I144: 豆芽 | J144: 食安2023-06-8106 | K144: XBJ23440103606410687 | L144: =VLOOKUP(K144,Sheet7!A:A,1,0) -> XBJ23440103606410687 | M144: 绿豆芽 | N144: 散装称重 | O144: / | P144: 2023/6/20 0:00:00 | Q144: 2023/6/20 0:00:00 | R144: 广州市荔湾区清菊蔬菜档 | S144: 广州市荔湾区中南街道增南路27号自编125号 | T144: 彭清菊 | U144: 13202025008 | V144: / | W144: / | X144: 合格报告
A145: 9 | B145: 2023年广东广州荔湾区4-6月流通环节食品安全抽样检验 | C145: 其他(食杂店) | F145: 食用农产品 | G145: 蔬菜 | H145: 豆芽 | I145: 豆芽 | J145: 食安2023-06-7538 | K145: XBJ23440103606410587 | L145: =VLOOKUP(K145,Sheet7!A:A,1,0) -> #N/A | M145: 绿豆芽 | N145: 散装称重 | O145: / | P145: 2023/6/16 0:00:00 | Q145: 2023/6/16 0:00:00 | R145: 东方街市连含灿 | S145: 广州市荔湾区中山八路石路基39号之一东方街市自编B34档 | T145: 徐祖云 | U145: 13128239990 | V145: / | W145: / | X145: 合格报告
A146: 4 | B146: 2023年广东广州荔湾区4-6月流通环节食品安全抽样检验 | C146: 菜市场 | F146: 食用农产品 | G146: 蔬菜 | H146: 豆芽 | I146: 豆芽 | J146: 食安2023-06-8102 | K146: XBJ23440103606410683 | L146: =VLOOKUP(K146,Sheet7!A:A,1,0) -> XBJ23440103606410683 | M146: 绿豆芽 | N146: 散装称重 | O146: / | P146: 2023/6/20 0:00:00 | Q146: 2023/6/20 0:00:00 | R146: 东漖肉菜综合市场梁德刚 | S146: 广州市荔湾区东漖南路46号东漖肉菜综合市场k2档 | T146: 梁德刚 | U146: 13112236828 | V146: / | W146: / | X146: 合格报告
A147: 0 | B147: 2023年广东广州荔湾区4-6月流通环节食品安全抽样检验 | C147: 其他(食杂店) | F147: 食用农产品 | G147: 蔬菜 | H147: 豆芽 | I147: 豆芽 | K147: XBJ23440103606410689 | L147: =VLOOKUP(K147,Sheet7!A:A,1,0) -> XBJ23440103606410689 | M147: 绿豆芽 | N147: 散装称重 | O147: / | P147: 2023/6/21 0:00:00 | Q147: 2023/6/21 0:00:00 | R147: 广州市荔湾区三义豆制品店 | S147: 广州市荔湾区宝华路宝华正中约2号宝华市场首层第70、71、72、73号 | T147: 肖敬娟 | U147: 13437802412 | V147: / | W147: /
A148: 0 | B148: 2023年广东广州荔湾区4-6月流通环节食品安全抽样检验 | C148: 菜市场 | F148: 食用农产品 | G148: 蔬菜 | H148: 豆芽 | I148: 豆芽 | K148: XBJ23440103606410697 | L148: =VLOOKUP(K148,Sheet7!A:A,1,0) -> XBJ23440103606410697 | M148: 黄豆芽 | N148: 散装称重 | O148: / | P148: 2023/6/26 0:00:00 | Q148: 2023/6/26 0:00:00 | R148: 流花新街市邱绍铭 | S148: 广州市荔湾区陈岗路32号073、074号档 | T148: 邱绍铭 | U148: 13527870458 | V148: / | W148: /
A149: 0 | B149: 2023年广东广州荔湾区4-6月流通环节食品安全抽样检验 | C149: 菜市场 | F149: 食用农产品 | G149: 蔬菜 | H149: 豆芽 | I149: 豆芽 | K149: XBJ23440103606410693 | L149: =VLOOKUP(K149,Sheet7!A:A,1,0) -> XBJ23440103606410693 | M149: 黄豆芽 | N149: 散装称重 | O149: / | P149: 2023/6/26 0:00:00 | Q149: 2023/6/26 0:00:00 | R149: 广州市荔湾区佘有宝豆制品店 | S149: 广州市荔湾区长寿东路长寿中北街7号首层第45商铺 | T149: 王宗 | U149: 13229319420 | V149: / | W149: /
A150: 0 | B150: 2023年广东广州荔湾区4-6月流通环节食品安全抽样检验 | C150: 菜市场 | F150: 食用农产品 | G150: 蔬菜 | H150: 豆芽 | I150: 豆芽 | K150: XBJ23440103606410700 | L150: =VLOOKUP(K150,Sheet7!A:A,1,0) -> XBJ23440103606410700 | M150: 黄豆芽 | N150: 散装称重 | O150: / | P150: 2023/6/26 0:00:00 | Q150: 2023/6/26 0:00:00 | R150: 流花新街市张建新 | S150: 广州市荔湾区陈岗路32号首层065、066号档(连档) | T150: 尹小红 | U150: 13697416191 | V150: / | W150: /
A151: 0 | B151: 2023年广东广州荔湾区4-6月流通环节食品安全抽样检验 | C151: 菜市场 | F151: 食用农产品 | G151: 蔬菜 | H151: 豆芽 | I151: 豆芽 | K151: XBJ23440103606410699 | L151: =VLOOKUP(K151,Sheet7!A:A,1,0) -> XBJ23440103606410699 | M151: 绿豆芽 | N151: 散装称重 | O151: / | P151: 2023/6/26 0:00:00 | Q151: 2023/6/26 0:00:00 | R151: 流花新街市谭运泉 | S151: 广州市荔湾区陈岗路32号第032、033档 | T151: 谭运泉 | U151: 13760754067 | V151: / | W151: /
A152: 0 | B152: 2023年广东广州荔湾区4-6月流通环节食品安全抽样检验 | C152: 菜市场 | F152: 食用农产品 | G152: 蔬菜 | H152: 豆芽 | I152: 豆芽 | K152: XBJ23440103606410694 | L152: =VLOOKUP(K152,Sheet7!A:A,1,0) -> XBJ23440103606410694 | M152: 绿豆芽 | N152: 散装称重 | O152: / | P152: 2023/6/26 0:00:00 | Q152: 2023/6/26 0:00:00 | R152: 广州市荔湾区佘有宝豆制品店 | S152: 广州市荔湾区长寿东路长寿中北街7号首层第45商铺 | T152: 王宗 | U152: 13229319420 | V152: / | W152: /
A153: 0 | B153: 2023年广东广州荔湾区4-6月流通环节食品安全抽样检验 | C153: 菜市场 | F153: 食用农产品 | G153: 蔬菜 | H153: 豆芽 | I153: 豆芽 | K153: XBJ23440103606410702 | L153: =VLOOKUP(K153,Sheet7!A:A,1,0) -> XBJ23440103606410702 | M153: 黄豆芽 | N153: 散装称重 | O153: / | P153: 2023/6/27 0:00:00 | Q153: 2023/6/27 0:00:00 | R153: 南源新街市谌佳 | S153: 广州市荔湾区南岸路源溪石路边1号之二、之三首层35号档口 | T153: 谌佳 | U153: 18218706692 | V153: / | W153: /
A154: 0 | B154: 2023年广东广州荔湾区4-6月流通环节食品安全抽样检验 | C154: 菜市场 | F154: 食用农产品 | G154: 蔬菜 | H154: 豆芽 | I154: 豆芽 | K154: XBJ23440103606410703 | L154: =VLOOKUP(K154,Sheet7!A:A,1,0) -> XBJ23440103606410703 | M154: 绿豆芽 | N154: 散装称重 | O154: / | P154: 2023/6/27 0:00:00 | Q154: 2023/6/27 0:00:00 | R154: 南源新街市谌佳 | S154: 广州市荔湾区南岸路源溪石路边1号之二、之三首层35号档口 | T154: 谌佳 | U154: 18218706692 | V154: / | W154: /
A155: 0 | B155: 2023年广东广州荔湾区4-6月流通环节食品安全抽样检验 | C155: 其他(食杂店) | F155: 食用农产品 | G155: 蔬菜 | H155: 豆芽 | I155: 豆芽 | K155: XBJ23440103606410708 | L155: =VLOOKUP(K155,Sheet7!A:A,1,0) -> #N/A | M155: 绿豆芽 | N155: 散装称重 | O155: / | P155: 2023/6/28 0:00:00 | Q155: 2023/6/28 0:00:00 | R155: 张勇 | S155: 广州市荔湾区杉木栏路139号清平东肉菜市场31档 | T155: 张勇 | U155: 13078858818 | V155: / | W155: /
A156: 0 | B156: 2023年广东广州荔湾区4-6月流通环节食品安全抽样检验 | C156: 菜市场 | F156: 食用农产品 | G156: 蔬菜 | H156: 豆芽 | I156: 豆芽 | K156: XBJ23440103606410698 | L156: =VLOOKUP(K156,Sheet7!A:A,1,0) -> XBJ23440103606410698 | M156: 绿豆芽 | N156: 散装称重 | O156: / | P156: 2023/6/26 0:00:00 | Q156: 2023/6/26 0:00:00 | R156: 流花新街市邱绍铭 | S156: 广州市荔湾区陈岗路32号073、074号档 | T156: 邱绍铭 | U156: 13527870458 | V156: / | W156: /
A157: 0 | B157: 2023年广东广州荔湾区4-6月流通环节食品安全抽样检验 | C157: 菜市场 | F157: 食用农产品 | G157: 蔬菜 | H157: 豆芽 | I157: 豆芽 | K157: XBJ23440103606410695 | L157: =VLOOKUP(K157,Sheet7!A:A,1,0) -> XBJ23440103606410695 | M157: 黄豆芽 | N157: 散装称重 | O157: / | P157: 2023/6/26 0:00:00 | Q157: 2023/6/26 0:00:00 | R157: 广州市荔湾区杨自路豆制品档 | S157: 广州市荔湾区长寿东路长寿中北街7号首层中北食品综合商场04,08,09号档 | T157: 杨善龙 | U157: 15817122017 | V157: / | W157: /
A158: 0 | B158: 2023年广东广州荔湾区4-6月流通环节食品安全抽样检验 | C158: 菜市场 | F158: 食用农产品 | G158: 蔬菜 | H158: 豆芽 | I158: 豆芽 | K158: XBJ23440103606410701 | L158: =VLOOKUP(K158,Sheet7!A:A,1,0) -> XBJ23440103606410701 | M158: 绿豆芽 | N158: 散装称重 | O158: / | P158: 2023/6/26 0:00:00 | Q158: 2023/6/26 0:00:00 | R158: 流花新街市张建新 | S158: 广州市荔湾区陈岗路32号首层065、066号档(连档) | T158: 尹小红 | U158: 13697416191 | V158: / | W158: /
... A160: 0 | B160: 2023年广东广州荔湾区4-6月流通环节食品安全抽样检验 | C160: 菜市场 | F160: 食用农产品 | G160: 蔬菜 | H160: 豆芽 | I160: 豆芽 | K160: XBJ23440103606410696 | L160: =VLOOKUP(K160,Sheet7!A:A,1,0) -> XBJ23440103606410696 | M160: 绿豆芽 | N160: 散装称重 | O160: / | P160: 2023/6/26 0:00:00 | Q160: 2023/6/26 0:00:00 | R160: 广州市荔湾区杨自路豆制品档 | S160: 广州市荔湾区长寿东路长寿中北街7号首层中北食品综合商场04,08,09号档 | T160: 杨善龙 | U160: 15817122017 | V160: / | W160: /

Sheet Sheet7
A1: XBJ23440103606442529
A2: XBJ23440103606442530
A3: XBJ23440103606442664
A4: XBJ23440103606442531
A5: XBJ23440103606442532
A6: XBJ23440103606442533
A7: XBJ23440103606442534
A8: XBJ23440103606442535
A9: XBJ23440103606442536
A10: XBJ23440103606410577
A11: XBJ23440103606410592
A12: XBJ23440103606410591
... A40: XBJ23440103606410687
